BEGIN:VCALENDAR
VERSION:2.0
PRODID:-//Bat Zion Messianic Congregation - ECPv6.15.20//NONSGML v1.0//EN
CALSCALE:GREGORIAN
METHOD:PUBLISH
X-ORIGINAL-URL:https://batzion.org
X-WR-CALDESC:Events for Bat Zion Messianic Congregation
REFRESH-INTERVAL;VALUE=DURATION:PT1H
X-Robots-Tag:noindex
X-PUBLISHED-TTL:PT1H
BEGIN:VTIMEZONE
TZID:America/Chicago
BEGIN:DAYLIGHT
TZOFFSETFROM:-0600
TZOFFSETTO:-0500
TZNAME:CDT
DTSTART:20240310T080000
END:DAYLIGHT
BEGIN:STANDARD
TZOFFSETFROM:-0500
TZOFFSETTO:-0600
TZNAME:CST
DTSTART:20241103T070000
END:STANDARD
BEGIN:DAYLIGHT
TZOFFSETFROM:-0600
TZOFFSETTO:-0500
TZNAME:CDT
DTSTART:20250309T080000
END:DAYLIGHT
BEGIN:STANDARD
TZOFFSETFROM:-0500
TZOFFSETTO:-0600
TZNAME:CST
DTSTART:20251102T070000
END:STANDARD
BEGIN:DAYLIGHT
TZOFFSETFROM:-0600
TZOFFSETTO:-0500
TZNAME:CDT
DTSTART:20260308T080000
END:DAYLIGHT
BEGIN:STANDARD
TZOFFSETFROM:-0500
TZOFFSETTO:-0600
TZNAME:CST
DTSTART:20261101T070000
END:STANDARD
END:VTIMEZONE
BEGIN:VEVENT
DTSTART;TZID=America/Chicago:20251008T183000
DTEND;TZID=America/Chicago:20251008T200000
DTSTAMP:20260424T111400
CREATED:20251007T215300Z
LAST-MODIFIED:20251007T220509Z
UID:9999-1759948200-1759953600@batzion.org
SUMMARY:Sukkot Under the Stars 2025
DESCRIPTION:Join us for “Sukkot Under the Stars” on Wednesday\, October 8th at 6:30 P.M.
URL:https://batzion.org/event/sukkot-under-the-stars-2025/
LOCATION:Bat Zion\, 730 N. Cedar Ridge Drive\, Duncanville\, TX\, 75116\, United States
CATEGORIES:Community,Music
ATTACH;FMTTYPE=image/png:https://batzion.org/wp-content/uploads/2024/01/Announcements-Oct.-4-25.pptx.png
ORGANIZER;CN="Bat Zion":MAILTO:bzoffice@sbcglobal.net
END:VEVENT
BEGIN:VEVENT
DTSTART;TZID=America/Chicago:20251018T104500
DTEND;TZID=America/Chicago:20251018T140000
DTSTAMP:20260424T111400
CREATED:20251007T215537Z
LAST-MODIFIED:20251007T215537Z
UID:10001-1760784300-1760796000@batzion.org
SUMMARY:Simchat Torah 2025
DESCRIPTION:Our Simchat Torah service will be on Saturday\, October 18th at 10:45 A.M.
URL:https://batzion.org/event/simchat-torah-2025/
LOCATION:Bat Zion\, 730 N. Cedar Ridge Drive\, Duncanville\, TX\, 75116\, United States
CATEGORIES:Community,Jewish Festivals,Music
ATTACH;FMTTYPE=image/png:https://batzion.org/wp-content/uploads/2025/09/Announcements-Oct.-4-25.pptx-1.png
ORGANIZER;CN="Bat Zion":MAILTO:bzoffice@sbcglobal.net
END:VEVENT
END:VCALENDAR