BEGIN:VCALENDAR
VERSION:2.0
PRODID:-//Bat Zion Messianic Congregation - ECPv6.15.20//NONSGML v1.0//EN
CALSCALE:GREGORIAN
METHOD:PUBLISH
X-WR-CALNAME:Bat Zion Messianic Congregation
X-ORIGINAL-URL:https://batzion.org
X-WR-CALDESC:Events for Bat Zion Messianic Congregation
REFRESH-INTERVAL;VALUE=DURATION:PT1H
X-Robots-Tag:noindex
X-PUBLISHED-TTL:PT1H
BEGIN:VTIMEZONE
TZID:America/Chicago
BEGIN:DAYLIGHT
TZOFFSETFROM:-0600
TZOFFSETTO:-0500
TZNAME:CDT
DTSTART:20230312T080000
END:DAYLIGHT
BEGIN:STANDARD
TZOFFSETFROM:-0500
TZOFFSETTO:-0600
TZNAME:CST
DTSTART:20231105T070000
END:STANDARD
BEGIN:DAYLIGHT
TZOFFSETFROM:-0600
TZOFFSETTO:-0500
TZNAME:CDT
DTSTART:20240310T080000
END:DAYLIGHT
BEGIN:STANDARD
TZOFFSETFROM:-0500
TZOFFSETTO:-0600
TZNAME:CST
DTSTART:20241103T070000
END:STANDARD
BEGIN:DAYLIGHT
TZOFFSETFROM:-0600
TZOFFSETTO:-0500
TZNAME:CDT
DTSTART:20250309T080000
END:DAYLIGHT
BEGIN:STANDARD
TZOFFSETFROM:-0500
TZOFFSETTO:-0600
TZNAME:CST
DTSTART:20251102T070000
END:STANDARD
END:VTIMEZONE
BEGIN:VEVENT
DTSTART;TZID=America/Chicago:20240323T190000
DTEND;TZID=America/Chicago:20240323T203000
DTSTAMP:20260425T105155
CREATED:20240227T170419Z
LAST-MODIFIED:20240318T172305Z
UID:9741-1711220400-1711225800@batzion.org
SUMMARY:Bat Zion Purim Party 2024
DESCRIPTION:Come join us for an evening of freedom and deliverance\, proclaiming the beginning of times and the end of times. \n  \nBat Zion’s 2024 Purim Celebration will be held at 7:00 PM on Saturday\, March 23rd. There will be music\, dance\, food\, and fellowship. We hope you can join us!
URL:https://batzion.org/event/bat-zion-purim-2024/
LOCATION:Bat Zion\, 730 N. Cedar Ridge Drive\, Duncanville\, TX\, 75116\, United States
CATEGORIES:Community,Food,Music
ATTACH;FMTTYPE=image/png:https://batzion.org/wp-content/uploads/2024/01/Announcements-2024-03-23-Purim-Celebration-details.png
ORGANIZER;CN="Bat Zion":MAILTO:bzoffice@sbcglobal.net
END:VEVENT
END:VCALENDAR