BEGIN:VCALENDAR
VERSION:2.0
PRODID:-//Bat Zion Messianic Congregation - ECPv6.15.20//NONSGML v1.0//EN
CALSCALE:GREGORIAN
METHOD:PUBLISH
X-WR-CALNAME:Bat Zion Messianic Congregation
X-ORIGINAL-URL:https://batzion.org
X-WR-CALDESC:Events for Bat Zion Messianic Congregation
REFRESH-INTERVAL;VALUE=DURATION:PT1H
X-Robots-Tag:noindex
X-PUBLISHED-TTL:PT1H
BEGIN:VTIMEZONE
TZID:America/Chicago
BEGIN:DAYLIGHT
TZOFFSETFROM:-0600
TZOFFSETTO:-0500
TZNAME:CDT
DTSTART:20220313T080000
END:DAYLIGHT
BEGIN:STANDARD
TZOFFSETFROM:-0500
TZOFFSETTO:-0600
TZNAME:CST
DTSTART:20221106T070000
END:STANDARD
BEGIN:DAYLIGHT
TZOFFSETFROM:-0600
TZOFFSETTO:-0500
TZNAME:CDT
DTSTART:20230312T080000
END:DAYLIGHT
BEGIN:STANDARD
TZOFFSETFROM:-0500
TZOFFSETTO:-0600
TZNAME:CST
DTSTART:20231105T070000
END:STANDARD
BEGIN:DAYLIGHT
TZOFFSETFROM:-0600
TZOFFSETTO:-0500
TZNAME:CDT
DTSTART:20240310T080000
END:DAYLIGHT
BEGIN:STANDARD
TZOFFSETFROM:-0500
TZOFFSETTO:-0600
TZNAME:CST
DTSTART:20241103T070000
END:STANDARD
END:VTIMEZONE
BEGIN:VEVENT
DTSTART;TZID=America/Chicago:20230805T190000
DTEND;TZID=America/Chicago:20230805T190000
DTSTAMP:20260425T231335
CREATED:20230725T150536Z
LAST-MODIFIED:20230725T150648Z
UID:9421-1691262000-1691262000@batzion.org
SUMMARY:Chavurah 2023
DESCRIPTION:
URL:https://batzion.org/event/chavurah-2023/
LOCATION:Bat Zion\, 730 N. Cedar Ridge Drive\, Duncanville\, TX\, 75116\, United States
CATEGORIES:Community,Food,Music
ATTACH;FMTTYPE=image/png:https://batzion.org/wp-content/uploads/2023/03/Announcements-2023-08-05-Chavurah.png
ORGANIZER;CN="Bat Zion":MAILTO:bzoffice@sbcglobal.net
END:VEVENT
END:VCALENDAR