BEGIN:VCALENDAR
VERSION:2.0
PRODID:-//Bat Zion Messianic Congregation - ECPv6.15.20//NONSGML v1.0//EN
CALSCALE:GREGORIAN
METHOD:PUBLISH
X-WR-CALNAME:Bat Zion Messianic Congregation
X-ORIGINAL-URL:https://batzion.org
X-WR-CALDESC:Events for Bat Zion Messianic Congregation
REFRESH-INTERVAL;VALUE=DURATION:PT1H
X-Robots-Tag:noindex
X-PUBLISHED-TTL:PT1H
BEGIN:VTIMEZONE
TZID:America/Chicago
BEGIN:DAYLIGHT
TZOFFSETFROM:-0600
TZOFFSETTO:-0500
TZNAME:CDT
DTSTART:20230312T080000
END:DAYLIGHT
BEGIN:STANDARD
TZOFFSETFROM:-0500
TZOFFSETTO:-0600
TZNAME:CST
DTSTART:20231105T070000
END:STANDARD
BEGIN:DAYLIGHT
TZOFFSETFROM:-0600
TZOFFSETTO:-0500
TZNAME:CDT
DTSTART:20240310T080000
END:DAYLIGHT
BEGIN:STANDARD
TZOFFSETFROM:-0500
TZOFFSETTO:-0600
TZNAME:CST
DTSTART:20241103T070000
END:STANDARD
BEGIN:DAYLIGHT
TZOFFSETFROM:-0600
TZOFFSETTO:-0500
TZNAME:CDT
DTSTART:20250309T080000
END:DAYLIGHT
BEGIN:STANDARD
TZOFFSETFROM:-0500
TZOFFSETTO:-0600
TZNAME:CST
DTSTART:20251102T070000
END:STANDARD
END:VTIMEZONE
BEGIN:VEVENT
DTSTART;TZID=America/Chicago:20241117T103000
DTEND;TZID=America/Chicago:20241117T123000
DTSTAMP:20260425T074424
CREATED:20241111T211826Z
LAST-MODIFIED:20241111T211826Z
UID:9865-1731839400-1731846600@batzion.org
SUMMARY:Valley of Hope (November 2024)
DESCRIPTION:Join us at 10:30 AM on Sunday\, November 17th! \n9:30 am to 10:15 am Prayer Time – all  are welcome\n10:30 am-12:30 pm Worship and Message \nView all of our upcoming Valley of Hope events here: https://valleyofhopeextended.com/upcoming-events
URL:https://batzion.org/event/valley-of-hope-november-2024/
LOCATION:Bat Zion\, 730 N. Cedar Ridge Drive\, Duncanville\, TX\, 75116\, United States
CATEGORIES:Community,Music,Outreach
ATTACH;FMTTYPE=image/png:https://batzion.org/wp-content/uploads/2023/07/Announcements-2024-11-17-Valley-of-Hope.png
ORGANIZER;CN="Valley of Hope":MAILTO:valleyofhopeextended@gmail.com
END:VEVENT
END:VCALENDAR