BEGIN:VCALENDAR
VERSION:2.0
PRODID:-//Bat Zion Messianic Congregation - ECPv6.15.20//NONSGML v1.0//EN
CALSCALE:GREGORIAN
METHOD:PUBLISH
X-WR-CALNAME:Bat Zion Messianic Congregation
X-ORIGINAL-URL:https://batzion.org
X-WR-CALDESC:Events for Bat Zion Messianic Congregation
REFRESH-INTERVAL;VALUE=DURATION:PT1H
X-Robots-Tag:noindex
X-PUBLISHED-TTL:PT1H
BEGIN:VTIMEZONE
TZID:America/Chicago
BEGIN:DAYLIGHT
TZOFFSETFROM:-0600
TZOFFSETTO:-0500
TZNAME:CDT
DTSTART:20230312T080000
END:DAYLIGHT
BEGIN:STANDARD
TZOFFSETFROM:-0500
TZOFFSETTO:-0600
TZNAME:CST
DTSTART:20231105T070000
END:STANDARD
BEGIN:DAYLIGHT
TZOFFSETFROM:-0600
TZOFFSETTO:-0500
TZNAME:CDT
DTSTART:20240310T080000
END:DAYLIGHT
BEGIN:STANDARD
TZOFFSETFROM:-0500
TZOFFSETTO:-0600
TZNAME:CST
DTSTART:20241103T070000
END:STANDARD
BEGIN:DAYLIGHT
TZOFFSETFROM:-0600
TZOFFSETTO:-0500
TZNAME:CDT
DTSTART:20250309T080000
END:DAYLIGHT
BEGIN:STANDARD
TZOFFSETFROM:-0500
TZOFFSETTO:-0600
TZNAME:CST
DTSTART:20251102T070000
END:STANDARD
END:VTIMEZONE
BEGIN:VEVENT
DTSTART;TZID=America/Chicago:20240818T103000
DTEND;TZID=America/Chicago:20240818T120000
DTSTAMP:20260425T105915
CREATED:20240802T132358Z
LAST-MODIFIED:20240902T132748Z
UID:9831-1723977000-1723982400@batzion.org
SUMMARY:Valley of Hope & Bat Zion Baptism Celebration (August 2024)
DESCRIPTION:Join us at 10:30 AM on Sunday\, August 18th for a Baptism Celebration! \nView all of our upcoming Valley of Hope events here: https://valleyofhopeextended.com/upcoming-events
URL:https://batzion.org/event/valley-of-hope-bat-zion-baptism-celebration-august-2024/
LOCATION:Bat Zion\, 730 N. Cedar Ridge Drive\, Duncanville\, TX\, 75116\, United States
CATEGORIES:Community,Music,Outreach
ATTACH;FMTTYPE=image/png:https://batzion.org/wp-content/uploads/2023/09/Announcements-2024-08-18-Baptism.png
ORGANIZER;CN="Valley of Hope":MAILTO:valleyofhopeextended@gmail.com
END:VEVENT
END:VCALENDAR