BEGIN:VCALENDAR
VERSION:2.0
PRODID:-//Bat Zion Messianic Congregation - ECPv6.15.20//NONSGML v1.0//EN
CALSCALE:GREGORIAN
METHOD:PUBLISH
X-ORIGINAL-URL:https://batzion.org
X-WR-CALDESC:Events for Bat Zion Messianic Congregation
REFRESH-INTERVAL;VALUE=DURATION:PT1H
X-Robots-Tag:noindex
X-PUBLISHED-TTL:PT1H
BEGIN:VTIMEZONE
TZID:America/Chicago
BEGIN:DAYLIGHT
TZOFFSETFROM:-0600
TZOFFSETTO:-0500
TZNAME:CDT
DTSTART:20230312T080000
END:DAYLIGHT
BEGIN:STANDARD
TZOFFSETFROM:-0500
TZOFFSETTO:-0600
TZNAME:CST
DTSTART:20231105T070000
END:STANDARD
BEGIN:DAYLIGHT
TZOFFSETFROM:-0600
TZOFFSETTO:-0500
TZNAME:CDT
DTSTART:20240310T080000
END:DAYLIGHT
BEGIN:STANDARD
TZOFFSETFROM:-0500
TZOFFSETTO:-0600
TZNAME:CST
DTSTART:20241103T070000
END:STANDARD
BEGIN:DAYLIGHT
TZOFFSETFROM:-0600
TZOFFSETTO:-0500
TZNAME:CDT
DTSTART:20250309T080000
END:DAYLIGHT
BEGIN:STANDARD
TZOFFSETFROM:-0500
TZOFFSETTO:-0600
TZNAME:CST
DTSTART:20251102T070000
END:STANDARD
END:VTIMEZONE
BEGIN:VEVENT
DTSTART;TZID=America/Chicago:20240421T103000
DTEND;TZID=America/Chicago:20240421T120000
DTSTAMP:20260425T193724
CREATED:20240415T121638Z
LAST-MODIFIED:20240415T121638Z
UID:9772-1713695400-1713700800@batzion.org
SUMMARY:Valley of Hope (April 2024)
DESCRIPTION:Join us at 10:30 AM on Sunday\, April 21st! \nView all of our upcoming Valley of Hope events here: https://valleyofhopeextended.com/upcoming-events
URL:https://batzion.org/event/valley-of-hope-april-2024/
LOCATION:Bat Zion\, 730 N. Cedar Ridge Drive\, Duncanville\, TX\, 75116\, United States
CATEGORIES:Community,Music,Outreach
ATTACH;FMTTYPE=image/png:https://batzion.org/wp-content/uploads/2023/12/Announcements-2024-04-21-Valley-of-Hope.png
ORGANIZER;CN="Valley of Hope":MAILTO:valleyofhopeextended@gmail.com
END:VEVENT
BEGIN:VEVENT
DTSTART;TZID=America/Chicago:20240423T183000
DTEND;TZID=America/Chicago:20240423T203000
DTSTAMP:20260425T193724
CREATED:20240315T195839Z
LAST-MODIFIED:20240422T162936Z
UID:9751-1713897000-1713904200@batzion.org
SUMMARY:Bat Zion Passover Seder 2024
DESCRIPTION:**Update** Tickets are sold out! \nWe will be holding our Passover Seder on Tuesday\, April 23\, 2024 at 6:30 PM. \n  \n(Tickets on sale as of April 9th – $15 per person. Please contact the office if you want to attend!)
URL:https://batzion.org/event/bat-zion-passover-seder-2024/
LOCATION:Bat Zion\, 730 N. Cedar Ridge Drive\, Duncanville\, TX\, 75116\, United States
CATEGORIES:Community,Food,Music
ATTACH;FMTTYPE=image/png:https://batzion.org/wp-content/uploads/2023/09/Announcements-2024-04-23-Passover-Seder-sold-out.png
ORGANIZER;CN="Bat Zion":MAILTO:bzoffice@sbcglobal.net
END:VEVENT
END:VCALENDAR